BEGIN:VCALENDAR
VERSION:2.0
METHOD:PUBLISH
PRODID:-//imacoda.com//SPD-Web-O-Mat//EN
CALSCALE:GREGORIAN
BEGIN:VTIMEZONE
TZID:Europe/Berlin
BEGIN:DAYLIGHT
TZOFFSETFROM:+0100
RRULE:FREQ=YEARLY;BYMONTH=3;BYDAY=-1SU
DTSTART:19810329T020000
TZNAME:MESZ
TZOFFSETTO:+0200
END:DAYLIGHT
BEGIN:STANDARD
TZOFFSETFROM:+0200
RRULE:FREQ=YEARLY;BYMONTH=10;BYDAY=-1SU
DTSTART:19961027T030000
TZNAME:MEZ
TZOFFSETTO:+0100
END:STANDARD
END:VTIMEZONE
BEGIN:VEVENT
UID:20231122T194602Z-00000945651-LULU@www.bayernspd.de
CREATED:20231122T194602Z
LAST-MODIFIED:20231122T194602Z
DTSTAMP:20231122T194602Z
TRANSP:TRANSPARENT
DTSTART;VALUE=DATE:20240223
DTEND;VALUE=DATE:20240225
SUMMARY:Seminar: Erfolgreiche Presse- und Öffentlichkeitsarbeit
LOCATION:Neumarkt
DESCRIPTION:Termin im Web (SGK Bayern):\nhttps://bayernsgk.de/termine/?i
 d=945651
END:VEVENT
END:VCALENDAR
